BEGIN:VCALENDAR
VERSION:2.0
METHOD:PUBLISH
BEGIN:VEVENT
DTSTART:20260321T150000Z
DTEND:20260321T180000Z
LOCATION:Columbia, SC 29212
TRANSP: OPAQUE
SEQUENCE:0
UID:
DTSTAMP:20260423T084434Z
SUMMARY:Estate Sales Supreme Cleanout
DESCRIPTION:Estate Sales Supreme Cleanout Estate Sales Supreme, LLC 
UID:1776955474
STREET-ADDRESS:See website
POSTAL-CODE:29212
LOCALITY:Columbia
REGION:ABBREV=SC
COUNTRY:ABBREV=US;ABBREV=USA:United States
URL;TYPE=Event Listing:https://estatesales.org/estate-sales/sc/columbia/29212/estate-sales-supreme-cleanout-2429430
PRIORITY:1
CLASS:PUBLIC
SEQUENCE:0
STATUS:CONFIRMED
TRANSP:OPAQUE
END:VEVENT
END:VCALENDAR
