BEGIN:VCALENDAR
VERSION:2.0
METHOD:PUBLISH
BEGIN:VEVENT
DTSTART:20260321T140000Z
DTEND:20260322T170000Z
LOCATION:Chesterfield, MO 63038
TRANSP: OPAQUE
SEQUENCE:0
UID:
DTSTAMP:20260422T064611Z
SUMMARY:Estate sale by Joan and Don ,Cynthia
DESCRIPTION:Estate sale by Joan and Don ,Cynthia Estate Sales By Joan & Don & Tisha 
UID:1776861971
STREET-ADDRESS:See website
POSTAL-CODE:63038
LOCALITY:Chesterfield
REGION:ABBREV=MO
COUNTRY:ABBREV=US;ABBREV=USA:United States
URL;TYPE=Event Listing:https://estatesales.org/estate-sales/mo/chesterfield/63038/estate-sale-by-joan-and-2428667
PRIORITY:1
CLASS:PUBLIC
SEQUENCE:0
STATUS:CONFIRMED
TRANSP:OPAQUE
END:VEVENT
END:VCALENDAR
