BEGIN:VCALENDAR
VERSION:2.0
METHOD:PUBLISH
BEGIN:VEVENT
DTSTART:20250321T140000Z
DTEND:20250323T200000Z
LOCATION:Fayetteville, GA 30215
TRANSP: OPAQUE
SEQUENCE:0
UID:
DTSTAMP:20260424T122046Z
SUMMARY:50% OFF! BEE'S KNEES IS IN FAYETTEVILLE!
DESCRIPTION:50% OFF! BEE'S KNEES IS IN FAYETTEVILLE! Bee's Knees Estate Sales LLC 
UID:1777054846
STREET-ADDRESS:See website
POSTAL-CODE:30215
LOCALITY:Fayetteville
REGION:ABBREV=GA
COUNTRY:ABBREV=US;ABBREV=USA:United States
URL;TYPE=Event Listing:https://estatesales.org/estate-sales/ga/fayetteville/30215/30-off-bees-knees-is-2366886
PRIORITY:1
CLASS:PUBLIC
SEQUENCE:0
STATUS:CONFIRMED
TRANSP:OPAQUE
END:VEVENT
END:VCALENDAR
