BEGIN:VCALENDAR
VERSION:2.0
METHOD:PUBLISH
BEGIN:VEVENT
DTSTART:20250321T140000Z
DTEND:20250322T190000Z
LOCATION:Newport News, VA 23606
TRANSP: OPAQUE
SEQUENCE:0
UID:
DTSTAMP:20260421T033200Z
SUMMARY:2 DAY ESTATE SALE 3 LAYDON CIRCLE NEWPORT NEWS - 1989 GRAND MARQUIS, UTILITY TRAILER, ANTIQUE & VINTAGE TOYS FURNITURE, ENTIRE HOUSE CONTENTS
DESCRIPTION:2 DAY ESTATE SALE 3 LAYDON CIRCLE NEWPORT NEWS - 1989 GRAND MARQUIS, UTILITY TRAILER, ANTIQUE & VINTAGE TOYS FURNITURE, ENTIRE HOUSE CONTENTS Randy's Auction Gallery Ltd. 
UID:1776763920
STREET-ADDRESS:See website
POSTAL-CODE:23606
LOCALITY:Newport News
REGION:ABBREV=VA
COUNTRY:ABBREV=US;ABBREV=USA:United States
URL;TYPE=Event Listing:https://estatesales.org/estate-sales/va/newport-news/23606/2-day-estate-sale-3-2365447
PRIORITY:1
CLASS:PUBLIC
SEQUENCE:0
STATUS:CONFIRMED
TRANSP:OPAQUE
END:VEVENT
END:VCALENDAR
