BEGIN:VCALENDAR
VERSION:2.0
METHOD:PUBLISH
BEGIN:VEVENT
DTSTART:20250321T130000Z
DTEND:20250323T180000Z
LOCATION:Orlando, FL 32828
TRANSP: OPAQUE
SEQUENCE:0
UID:
DTSTAMP:20260423T132647Z
SUMMARY:EMERALD will be in Waterford Lakes
DESCRIPTION:EMERALD will be in Waterford Lakes Estate Sales by Emerald 
UID:1776972407
STREET-ADDRESS:See website
POSTAL-CODE:32828
LOCALITY:Orlando
REGION:ABBREV=FL
COUNTRY:ABBREV=US;ABBREV=USA:United States
URL;TYPE=Event Listing:https://estatesales.org/estate-sales/fl/orlando/32828/emerald-will-be-in-waterford-2367457
PRIORITY:1
CLASS:PUBLIC
SEQUENCE:0
STATUS:CONFIRMED
TRANSP:OPAQUE
END:VEVENT
END:VCALENDAR
