BEGIN:VCALENDAR
VERSION:2.0
METHOD:PUBLISH
BEGIN:VEVENT
DTSTART:20250321T140000Z
DTEND:20250322T210000Z
LOCATION:Oshkosh, WI 54904
TRANSP: OPAQUE
SEQUENCE:0
UID:
DTSTAMP:20260423T090436Z
SUMMARY:Oshkosh Estate Sale by "The Missing Piece" FRI 3/21 - SAT 3/22 - 9AM
DESCRIPTION:Oshkosh Estate Sale by "The Missing Piece" FRI 3/21 - SAT 3/22 - 9AM Greg Willett Antiques and Estate Sales 
UID:1776956676
STREET-ADDRESS:See website
POSTAL-CODE:54904
LOCALITY:Oshkosh
REGION:ABBREV=WI
COUNTRY:ABBREV=US;ABBREV=USA:United States
URL;TYPE=Event Listing:https://estatesales.org/estate-sales/wi/oshkosh/54904/oshkosh-estate-sale-by-the-2367656
PRIORITY:1
CLASS:PUBLIC
SEQUENCE:0
STATUS:CONFIRMED
TRANSP:OPAQUE
END:VEVENT
END:VCALENDAR
