BEGIN:VCALENDAR
VERSION:2.0
METHOD:PUBLISH
BEGIN:VEVENT
DTSTART:20250321T140000Z
DTEND:20250322T210000Z
LOCATION:Oshkosh, WI 54901
TRANSP: OPAQUE
SEQUENCE:0
UID:
DTSTAMP:20260424T213715Z
SUMMARY:Oshkosh sale, by Estate Sale Squad, Friday March 21,9-5; Saturday March 22, 9-4.
DESCRIPTION:Oshkosh sale, by Estate Sale Squad, Friday March 21,9-5; Saturday March 22, 9-4. Estate Sale Squad LLC 
UID:1777088235
STREET-ADDRESS:See website
POSTAL-CODE:54901
LOCALITY:Oshkosh
REGION:ABBREV=WI
COUNTRY:ABBREV=US;ABBREV=USA:United States
URL;TYPE=Event Listing:https://estatesales.org/estate-sales/wi/oshkosh/54901/oshkosh-sale-by-estate-sale-2367628
PRIORITY:1
CLASS:PUBLIC
SEQUENCE:0
STATUS:CONFIRMED
TRANSP:OPAQUE
END:VEVENT
END:VCALENDAR
