BEGIN:VCALENDAR
VERSION:2.0
METHOD:PUBLISH
BEGIN:VEVENT
DTSTART:20250321T150000Z
DTEND:20250323T220000Z
LOCATION:Riverside, CA 92507
TRANSP: OPAQUE
SEQUENCE:0
UID:
DTSTAMP:20260419T234726Z
SUMMARY:Great Sale this Weekend in Riverside's Canyon Crest Neighborhood!
DESCRIPTION:Great Sale this Weekend in Riverside's Canyon Crest Neighborhood! Estate Sales by Dee 
UID:1776664046
STREET-ADDRESS:See website
POSTAL-CODE:92507
LOCALITY:Riverside
REGION:ABBREV=CA
COUNTRY:ABBREV=US;ABBREV=USA:United States
URL;TYPE=Event Listing:https://estatesales.org/estate-sales/ca/riverside/92507/great-sale-this-weekend-in-2367661
PRIORITY:1
CLASS:PUBLIC
SEQUENCE:0
STATUS:CONFIRMED
TRANSP:OPAQUE
END:VEVENT
END:VCALENDAR
