BEGIN:VCALENDAR
VERSION:2.0
METHOD:PUBLISH
BEGIN:VEVENT
DTSTART:20260320T160000Z
DTEND:20260322T210000Z
LOCATION:San Diego, CA 92117
TRANSP: OPAQUE
SEQUENCE:0
UID:
DTSTAMP:20260420T194456Z
SUMMARY:Masked treasures unfolded
DESCRIPTION:Masked treasures unfolded Clark Prestige Estate Sale 
UID:1776735896
STREET-ADDRESS:See website
POSTAL-CODE:92117
LOCALITY:San Diego
REGION:ABBREV=CA
COUNTRY:ABBREV=US;ABBREV=USA:United States
URL;TYPE=Event Listing:https://estatesales.org/estate-sales/ca/san-diego/92117/masked-treasures-unfolded-2428271
PRIORITY:1
CLASS:PUBLIC
SEQUENCE:0
STATUS:CONFIRMED
TRANSP:OPAQUE
END:VEVENT
END:VCALENDAR
