BEGIN:VCALENDAR
VERSION:2.0
METHOD:PUBLISH
BEGIN:VEVENT
DTSTART:20260320T130000Z
DTEND:20260321T200000Z
LOCATION:San Antonio, FL 33576
TRANSP: OPAQUE
SEQUENCE:0
UID:
DTSTAMP:20260423T082802Z
SUMMARY:V Patton TBG&CC San Antonio Etched Glass, Golf Cart, King BR, with Household Items & Tools
DESCRIPTION:V Patton TBG&CC San Antonio Etched Glass, Golf Cart, King BR, with Household Items & Tools V Patton Estate Sale Options 
UID:1776954482
STREET-ADDRESS:See website
POSTAL-CODE:33576
LOCALITY:San Antonio
REGION:ABBREV=FL
COUNTRY:ABBREV=US;ABBREV=USA:United States
URL;TYPE=Event Listing:https://estatesales.org/estate-sales/fl/san-antonio/33576/v-patton-tbgcc-san-antonio-2429981
PRIORITY:1
CLASS:PUBLIC
SEQUENCE:0
STATUS:CONFIRMED
TRANSP:OPAQUE
END:VEVENT
END:VCALENDAR
