BEGIN:VCALENDAR
VERSION:2.0
METHOD:PUBLISH
BEGIN:VEVENT
DTSTART:20260320T150000Z
DTEND:20260323T000000Z
LOCATION:Whittier, CA 90605
TRANSP: OPAQUE
SEQUENCE:0
UID:
DTSTAMP:20260422T194304Z
SUMMARY:Whittier Estate Treasures. Lots of Goodies to see
DESCRIPTION:Whittier Estate Treasures. Lots of Goodies to see Helpful Hands Today 
UID:1776908584
STREET-ADDRESS:See website
POSTAL-CODE:90605
LOCALITY:Whittier
REGION:ABBREV=CA
COUNTRY:ABBREV=US;ABBREV=USA:United States
URL;TYPE=Event Listing:https://estatesales.org/estate-sales/ca/whittier/90605/whittier-estate-treasures-lots-of-2427931
PRIORITY:1
CLASS:PUBLIC
SEQUENCE:0
STATUS:CONFIRMED
TRANSP:OPAQUE
END:VEVENT
END:VCALENDAR
