BEGIN:VCALENDAR
VERSION:2.0
METHOD:PUBLISH
BEGIN:VEVENT
DTSTART:20250320T150000Z
DTEND:20250322T183000Z
LOCATION:Mesa, AZ 85204
TRANSP: OPAQUE
SEQUENCE:0
UID:
DTSTAMP:20260423T101524Z
SUMMARY:SUPER ADORABLE AND PRISTEEN IN MESA THIS WEEKEND!!!
DESCRIPTION:SUPER ADORABLE AND PRISTEEN IN MESA THIS WEEKEND!!! Trinity AZ Estate Sales 
UID:1776960924
STREET-ADDRESS:See website
POSTAL-CODE:85204
LOCALITY:Mesa
REGION:ABBREV=AZ
COUNTRY:ABBREV=US;ABBREV=USA:United States
URL;TYPE=Event Listing:https://estatesales.org/estate-sales/az/mesa/85204/super-adorable-and-pristeen-in-2367435
PRIORITY:1
CLASS:PUBLIC
SEQUENCE:0
STATUS:CONFIRMED
TRANSP:OPAQUE
END:VEVENT
END:VCALENDAR
