BEGIN:VCALENDAR
VERSION:2.0
METHOD:PUBLISH
BEGIN:VEVENT
DTSTART:20170320T150000Z
DTEND:20170322T210000Z
LOCATION:Wichita, KS 67206
TRANSP: OPAQUE
SEQUENCE:0
UID:
DTSTAMP:20260425T100856Z
SUMMARY:Paradise Estate Sales 
DESCRIPTION:Paradise Estate Sales 
UID:1777133336
STREET-ADDRESS:See website
POSTAL-CODE:67206
LOCALITY:Wichita
REGION:ABBREV=KS
COUNTRY:ABBREV=US;ABBREV=USA:United States
URL;TYPE=Event Listing:https://estatesales.org/estate-sales/ks/wichita/67206/paradise-estate-sales-1114899
PRIORITY:1
CLASS:PUBLIC
SEQUENCE:0
STATUS:CONFIRMED
TRANSP:OPAQUE
END:VEVENT
END:VCALENDAR
