BEGIN:VCALENDAR
VERSION:2.0
METHOD:PUBLISH
BEGIN:VEVENT
DTSTART:20150320T160000Z
DTEND:20150322T190000Z
LOCATION:Sagaponack, NY 11962
TRANSP: OPAQUE
SEQUENCE:0
UID:
DTSTAMP:20260423T224647Z
SUMMARY:SPACTACULAR SAGAPONACK ESTATE
DESCRIPTION:SPACTACULAR SAGAPONACK ESTATE re.luxeHamptons 
UID:1777006007
STREET-ADDRESS:See website
POSTAL-CODE:11962
LOCALITY:Sagaponack
REGION:ABBREV=NY
COUNTRY:ABBREV=US;ABBREV=USA:United States
URL;TYPE=Event Listing:https://estatesales.org/estate-sales/ny/sagaponack/11962/spactacular-sagaponack-estate-513588
PRIORITY:1
CLASS:PUBLIC
SEQUENCE:0
STATUS:CONFIRMED
TRANSP:OPAQUE
END:VEVENT
END:VCALENDAR
