BEGIN:VCALENDAR
VERSION:2.0
METHOD:PUBLISH
BEGIN:VEVENT
DTSTART:20150320T150000Z
DTEND:20150322T223000Z
LOCATION:Fort Collins, CO 80526
TRANSP: OPAQUE
SEQUENCE:0
UID:
DTSTAMP:20260419T113716Z
SUMMARY:Collectors Dream Sale, in Fort Collins Colorado, Classic Cars, Jukeboxes, Antiques and Collectibles.
DESCRIPTION:Collectors Dream Sale, in Fort Collins Colorado, Classic Cars, Jukeboxes, Antiques and Collectibles. Fistell's Fine Art and Collectibles  
UID:1776620236
STREET-ADDRESS:See website
POSTAL-CODE:80526
LOCALITY:Fort Collins
REGION:ABBREV=CO
COUNTRY:ABBREV=US;ABBREV=USA:United States
URL;TYPE=Event Listing:https://estatesales.org/estate-sales/co/fort-collins/80526/collectors-dream-sale-in-fort-513732
PRIORITY:1
CLASS:PUBLIC
SEQUENCE:0
STATUS:CONFIRMED
TRANSP:OPAQUE
END:VEVENT
END:VCALENDAR
