BEGIN:VCALENDAR
VERSION:2.0
METHOD:PUBLISH
BEGIN:VEVENT
DTSTART:20230319T160000Z
DTEND:20230319T230000Z
LOCATION:Los Angeles, CA 91405
TRANSP: OPAQUE
SEQUENCE:0
UID:
DTSTAMP:20260420T044048Z
SUMMARY:Amazing Van Nuys Estate Sale Discount Sunday
DESCRIPTION:Amazing Van Nuys Estate Sale Discount Sunday Hidden Treasure Estate Sales 
UID:1776681648
STREET-ADDRESS:See website
POSTAL-CODE:91405
LOCALITY:Los Angeles
REGION:ABBREV=CA
COUNTRY:ABBREV=US;ABBREV=USA:United States
URL;TYPE=Event Listing:https://estatesales.org/estate-sales/ca/los-angeles/91405/amazing-van-nuys-estate-sale-2156389
PRIORITY:1
CLASS:PUBLIC
SEQUENCE:0
STATUS:CONFIRMED
TRANSP:OPAQUE
END:VEVENT
END:VCALENDAR
