BEGIN:VCALENDAR
VERSION:2.0
METHOD:PUBLISH
BEGIN:VEVENT
DTSTART:20220319T120000Z
DTEND:20220320T190000Z
LOCATION:Arnold, MO 63010
TRANSP: OPAQUE
SEQUENCE:0
UID:
DTSTAMP:20260419T163231Z
SUMMARY:Great sale in Arnold- Antiques, Furniture, Household and more.  Clean contents!
DESCRIPTION:Great sale in Arnold- Antiques, Furniture, Household and more.  Clean contents! Lizzy Lou Estate Sales, LLC 
UID:1776637951
STREET-ADDRESS:See website
POSTAL-CODE:63010
LOCALITY:Arnold
REGION:ABBREV=MO
COUNTRY:ABBREV=US;ABBREV=USA:United States
URL;TYPE=Event Listing:https://estatesales.org/estate-sales/mo/arnold/63010/great-sale-in-arnold-antiques-2013583
PRIORITY:1
CLASS:PUBLIC
SEQUENCE:0
STATUS:CONFIRMED
TRANSP:OPAQUE
END:VEVENT
END:VCALENDAR
