BEGIN:VCALENDAR
VERSION:2.0
METHOD:PUBLISH
BEGIN:VEVENT
DTSTART:20210319T170000Z
DTEND:20210321T230000Z
LOCATION:Watsonville, CA 95076
TRANSP: OPAQUE
SEQUENCE:0
UID:
DTSTAMP:20260421T115744Z
SUMMARY:Rain or shine don't miss this one
DESCRIPTION:Rain or shine don't miss this one A Move Made SImple 
UID:1776794264
STREET-ADDRESS:See website
POSTAL-CODE:95076
LOCALITY:Watsonville
REGION:ABBREV=CA
COUNTRY:ABBREV=US;ABBREV=USA:United States
URL;TYPE=Event Listing:https://estatesales.org/estate-sales/ca/watsonville/95076/rain-or-shine-dont-miss-1881037
PRIORITY:1
CLASS:PUBLIC
SEQUENCE:0
STATUS:CONFIRMED
TRANSP:OPAQUE
END:VEVENT
END:VCALENDAR
