BEGIN:VCALENDAR
VERSION:2.0
METHOD:PUBLISH
BEGIN:VEVENT
DTSTART:20160319T150000Z
DTEND:20160320T230000Z
LOCATION:Dallas, TX 75244
TRANSP: OPAQUE
SEQUENCE:0
UID:
DTSTAMP:20260420T105109Z
SUMMARY:Beautiful North Dallas Preston Hollow Meadows Estates Estate Sale
DESCRIPTION:Beautiful North Dallas Preston Hollow Meadows Estates Estate Sale Coulter's Collectables 
UID:1776703869
STREET-ADDRESS:See website
POSTAL-CODE:75244
LOCALITY:Dallas
REGION:ABBREV=TX
COUNTRY:ABBREV=US;ABBREV=USA:United States
URL;TYPE=Event Listing:https://estatesales.org/estate-sales/tx/dallas/75244/beautiful-north-dallas-preston-hollow-798891
PRIORITY:1
CLASS:PUBLIC
SEQUENCE:0
STATUS:CONFIRMED
TRANSP:OPAQUE
END:VEVENT
END:VCALENDAR
