BEGIN:VCALENDAR
VERSION:2.0
METHOD:PUBLISH
BEGIN:VEVENT
DTSTART:20160319T150000Z
DTEND:20160319T200000Z
LOCATION:Aurora, CO 80016
TRANSP: OPAQUE
SEQUENCE:0
UID:
DTSTAMP:20260420T190753Z
SUMMARY:Continuation of "Let's Have a Party, Rock n Roll Vintage Collectibles"
DESCRIPTION:Continuation of "Let's Have a Party, Rock n Roll Vintage Collectibles" Migrations Estate Sales and Transitions 
UID:1776733673
STREET-ADDRESS:See website
POSTAL-CODE:80016
LOCALITY:Aurora
REGION:ABBREV=CO
COUNTRY:ABBREV=US;ABBREV=USA:United States
URL;TYPE=Event Listing:https://estatesales.org/estate-sales/co/aurora/80016/continuation-of-lets-have-a-799719
PRIORITY:1
CLASS:PUBLIC
SEQUENCE:0
STATUS:CONFIRMED
TRANSP:OPAQUE
END:VEVENT
END:VCALENDAR
