BEGIN:VCALENDAR
VERSION:2.0
METHOD:PUBLISH
BEGIN:VEVENT
DTSTART:20160319T100000Z
DTEND:20160324T000000Z
LOCATION:By appointment only.
TRANSP: OPAQUE
SEQUENCE:0
UID:
DTSTAMP:20260420T190747Z
SUMMARY:Caring Transitions Kansas City Classic Online Auction
DESCRIPTION:Caring Transitions Kansas City Classic Online Auction  Caring Transitions Kansas City East 
UID:1776733667
STREET-ADDRESS:See website
POSTAL-CODE:64155
LOCALITY:Kansas City
REGION:ABBREV=MO
COUNTRY:ABBREV=US;ABBREV=USA:United States
URL;TYPE=Event Listing:https://estatesales.org/estate-sales/mo/kansas-city/64155/caring-transitions-kansas-city-classic-796147
PRIORITY:1
CLASS:PUBLIC
SEQUENCE:0
STATUS:CONFIRMED
TRANSP:OPAQUE
END:VEVENT
END:VCALENDAR
