BEGIN:VCALENDAR
VERSION:2.0
METHOD:PUBLISH
BEGIN:VEVENT
DTSTART:20230318T120000Z
DTEND:20230318T160000Z
LOCATION:Simpsonville, SC 29680
TRANSP: OPAQUE
SEQUENCE:0
UID:
DTSTAMP:20260425T152407Z
SUMMARY:Vintage Pickings Yard Sale
DESCRIPTION:Vintage Pickings Yard Sale A2Z Auction House 
UID:1777152247
STREET-ADDRESS:See website
POSTAL-CODE:29680
LOCALITY:Simpsonville
REGION:ABBREV=SC
COUNTRY:ABBREV=US;ABBREV=USA:United States
URL;TYPE=Event Listing:https://estatesales.org/estate-sales/sc/simpsonville/29680/vintage-pickings-yard-sale-2158941
PRIORITY:1
CLASS:PUBLIC
SEQUENCE:0
STATUS:CONFIRMED
TRANSP:OPAQUE
END:VEVENT
END:VCALENDAR
