BEGIN:VCALENDAR
VERSION:2.0
METHOD:PUBLISH
BEGIN:VEVENT
DTSTART:20220318T140000Z
DTEND:20220319T220000Z
LOCATION:Menasha, WI 54952
TRANSP: OPAQUE
SEQUENCE:0
UID:
DTSTAMP:20260423T233359Z
SUMMARY:Estate Sale by Ron starts Friday (Menasha)
DESCRIPTION:Estate Sale by Ron starts Friday (Menasha) Greg Willett Antiques and Estate Sales 
UID:1777008839
STREET-ADDRESS:See website
POSTAL-CODE:54952
LOCALITY:Menasha
REGION:ABBREV=WI
COUNTRY:ABBREV=US;ABBREV=USA:United States
URL;TYPE=Event Listing:https://estatesales.org/estate-sales/wi/menasha/54952/estate-sale-by-ron-starts-2018815
PRIORITY:1
CLASS:PUBLIC
SEQUENCE:0
STATUS:CONFIRMED
TRANSP:OPAQUE
END:VEVENT
END:VCALENDAR
