BEGIN:VCALENDAR
VERSION:2.0
METHOD:PUBLISH
BEGIN:VEVENT
DTSTART:20150318T150000Z
DTEND:20150320T230000Z
LOCATION:Carson City, NV 89701
TRANSP: OPAQUE
SEQUENCE:0
UID:
DTSTAMP:20260425T194359Z
SUMMARY:Grand Opening Carson City Auction Company
DESCRIPTION:Grand Opening Carson City Auction Company Carson City Auction Company 
UID:1777167839
STREET-ADDRESS:See website
POSTAL-CODE:89701
LOCALITY:Carson City
REGION:ABBREV=NV
COUNTRY:ABBREV=US;ABBREV=USA:United States
URL;TYPE=Event Listing:https://estatesales.org/estate-sales/nv/carson-city/89701/grand-opening-carson-city-auction-512391
PRIORITY:1
CLASS:PUBLIC
SEQUENCE:0
STATUS:CONFIRMED
TRANSP:OPAQUE
END:VEVENT
END:VCALENDAR
