BEGIN:VCALENDAR
VERSION:2.0
METHOD:PUBLISH
BEGIN:VEVENT
DTSTART:20230317T130000Z
DTEND:20230318T180000Z
LOCATION:Carthage, MO 64836
TRANSP: OPAQUE
SEQUENCE:0
UID:
DTSTAMP:20260419T122034Z
SUMMARY:MID CENTURY MODERN DOWNSIZING TAG SALE! 
DESCRIPTION:MID CENTURY MODERN DOWNSIZING TAG SALE!  New Beginnings Estate Sales of SW MO 
UID:1776622834
STREET-ADDRESS:See website
POSTAL-CODE:64836
LOCALITY:Carthage
REGION:ABBREV=MO
COUNTRY:ABBREV=US;ABBREV=USA:United States
URL;TYPE=Event Listing:https://estatesales.org/estate-sales/mo/carthage/64836/mid-century-modern-downsizing-tag-2157581
PRIORITY:1
CLASS:PUBLIC
SEQUENCE:0
STATUS:CONFIRMED
TRANSP:OPAQUE
END:VEVENT
END:VCALENDAR
