BEGIN:VCALENDAR
VERSION:2.0
METHOD:PUBLISH
BEGIN:VEVENT
DTSTART:20230317T130000Z
DTEND:20230318T180000Z
LOCATION:Fairhaven, MA 02719
TRANSP: OPAQUE
SEQUENCE:0
UID:
DTSTAMP:20260420T012619Z
SUMMARY:Fairhaven's West Island Picker's Sale
DESCRIPTION:Fairhaven's West Island Picker's Sale Hidden Treasures Estate Sales & Cleanouts 
UID:1776669979
STREET-ADDRESS:See website
POSTAL-CODE:02719
LOCALITY:Fairhaven
REGION:ABBREV=MA
COUNTRY:ABBREV=US;ABBREV=USA:United States
URL;TYPE=Event Listing:https://estatesales.org/estate-sales/ma/fairhaven/02719/fairhavens-west-island-pickers-sale-2154899
PRIORITY:1
CLASS:PUBLIC
SEQUENCE:0
STATUS:CONFIRMED
TRANSP:OPAQUE
END:VEVENT
END:VCALENDAR
