BEGIN:VCALENDAR
VERSION:2.0
METHOD:PUBLISH
BEGIN:VEVENT
DTSTART:20240316T150000Z
DTEND:20240317T190000Z
LOCATION:West Columbia, SC 29169
TRANSP: OPAQUE
SEQUENCE:0
UID:
DTSTAMP:20260425T131236Z
SUMMARY:Trails and Streams Estate
DESCRIPTION:Trails and Streams Estate Estate Sales Supreme, LLC 
UID:1777144356
STREET-ADDRESS:See website
POSTAL-CODE:29169
LOCALITY:West Columbia
REGION:ABBREV=SC
COUNTRY:ABBREV=US;ABBREV=USA:United States
URL;TYPE=Event Listing:https://estatesales.org/estate-sales/sc/west-columbia/29169/trails-and-streams-estate-2288215
PRIORITY:1
CLASS:PUBLIC
SEQUENCE:0
STATUS:CONFIRMED
TRANSP:OPAQUE
END:VEVENT
END:VCALENDAR
