BEGIN:VCALENDAR
VERSION:2.0
METHOD:PUBLISH
BEGIN:VEVENT
DTSTART:20190316T160000Z
DTEND:20190317T200000Z
LOCATION:Seattle, WA 98177
TRANSP: OPAQUE
SEQUENCE:0
UID:
DTSTAMP:20260424T133518Z
SUMMARY:Shoreline Estate Sale 
DESCRIPTION:Shoreline Estate Sale  A&W Helping Hands Estate Sale services and full cleanouts 
UID:1777059318
STREET-ADDRESS:See website
POSTAL-CODE:98177
LOCALITY:Seattle
REGION:ABBREV=WA
COUNTRY:ABBREV=US;ABBREV=USA:United States
URL;TYPE=Event Listing:https://estatesales.org/estate-sales/wa/shoreline-/98177/shoreline-estate-sale-1629573
PRIORITY:1
CLASS:PUBLIC
SEQUENCE:0
STATUS:CONFIRMED
TRANSP:OPAQUE
END:VEVENT
END:VCALENDAR
