BEGIN:VCALENDAR
VERSION:2.0
METHOD:PUBLISH
BEGIN:VEVENT
DTSTART:20180316T150000Z
DTEND:20180318T220000Z
LOCATION:Grand Junction, CO 81504
TRANSP: OPAQUE
SEQUENCE:0
UID:
DTSTAMP:20260419T152814Z
SUMMARY:Estate of Jeanette Sanburg
DESCRIPTION:Estate of Jeanette Sanburg Estate Treasures by Grand Junction Estate Sales 
UID:1776634094
STREET-ADDRESS:See website
POSTAL-CODE:81504
LOCALITY:Grand Junction
REGION:ABBREV=CO
COUNTRY:ABBREV=US;ABBREV=USA:United States
URL;TYPE=Event Listing:https://estatesales.org/estate-sales/co/grand-junction/81504/estate-of-jeanette-sanburg-1491085
PRIORITY:1
CLASS:PUBLIC
SEQUENCE:0
STATUS:CONFIRMED
TRANSP:OPAQUE
END:VEVENT
END:VCALENDAR
