BEGIN:VCALENDAR
VERSION:2.0
METHOD:PUBLISH
BEGIN:VEVENT
DTSTART:20180316T160000Z
DTEND:20180318T210000Z
LOCATION:Palm Desert, CA 92260
TRANSP: OPAQUE
SEQUENCE:0
UID:
DTSTAMP:20260421T032515Z
SUMMARY:Great Eclectic Estate Sale in Palm Desert
DESCRIPTION:Great Eclectic Estate Sale in Palm Desert Crown City Estate Sales 
UID:1776763515
STREET-ADDRESS:See website
POSTAL-CODE:92260
LOCALITY:Palm Desert
REGION:ABBREV=CA
COUNTRY:ABBREV=US;ABBREV=USA:United States
URL;TYPE=Event Listing:https://estatesales.org/estate-sales/ca/palm-desert/92260/great-eclectic-estate-sale-in-1482111
PRIORITY:1
CLASS:PUBLIC
SEQUENCE:0
STATUS:CONFIRMED
TRANSP:OPAQUE
END:VEVENT
END:VCALENDAR
