BEGIN:VCALENDAR
VERSION:2.0
METHOD:PUBLISH
BEGIN:VEVENT
DTSTART:20250315T160000Z
DTEND:20250316T220000Z
LOCATION:Los Angeles, CA 90077
TRANSP: OPAQUE
SEQUENCE:0
UID:
DTSTAMP:20260420T044047Z
SUMMARY:Discount BEL AIR ESTATE SALE
DESCRIPTION:Discount BEL AIR ESTATE SALE Hidden Treasure Estate Sales 
UID:1776681647
STREET-ADDRESS:See website
POSTAL-CODE:90077
LOCALITY:Los Angeles
REGION:ABBREV=CA
COUNTRY:ABBREV=US;ABBREV=USA:United States
URL;TYPE=Event Listing:https://estatesales.org/estate-sales/ca/los-angeles/90077/discount-bel-air-estate-sale-2365084
PRIORITY:1
CLASS:PUBLIC
SEQUENCE:0
STATUS:CONFIRMED
TRANSP:OPAQUE
END:VEVENT
END:VCALENDAR
