BEGIN:VCALENDAR
VERSION:2.0
METHOD:PUBLISH
BEGIN:VEVENT
DTSTART:20250315T160000Z
DTEND:20250316T210000Z
LOCATION:Oakland, CA 94611
TRANSP: OPAQUE
SEQUENCE:0
UID:
DTSTAMP:20260419T054019Z
SUMMARY:Estate Sale in Oakland/Piedmont Ca, by Horizons LLC
DESCRIPTION:Estate Sale in Oakland/Piedmont Ca, by Horizons LLC Horizons Estate Sales LLC 
UID:1776598819
STREET-ADDRESS:See website
POSTAL-CODE:94611
LOCALITY:Oakland
REGION:ABBREV=CA
COUNTRY:ABBREV=US;ABBREV=USA:United States
URL;TYPE=Event Listing:https://estatesales.org/estate-sales/ca/oakland/94611/estate-sale-in-oaklandpiedmont-ca-2366620
PRIORITY:1
CLASS:PUBLIC
SEQUENCE:0
STATUS:CONFIRMED
TRANSP:OPAQUE
END:VEVENT
END:VCALENDAR
