BEGIN:VCALENDAR
VERSION:2.0
METHOD:PUBLISH
BEGIN:VEVENT
DTSTART:20260314T140000Z
DTEND:20260316T180000Z
LOCATION:Hudson, OH 44236
TRANSP: OPAQUE
SEQUENCE:0
UID:
DTSTAMP:20260425T171422Z
SUMMARY:A Hudson Village Collection
DESCRIPTION:A Hudson Village Collection
UID:1777158862
STREET-ADDRESS:See website
POSTAL-CODE:44236
LOCALITY:Hudson
REGION:ABBREV=OH
COUNTRY:ABBREV=US;ABBREV=USA:United States
URL;TYPE=Event Listing:https://estatesales.org/estate-sales/oh/hudson/44236/a-hudson-village-collection-2429258
PRIORITY:1
CLASS:PUBLIC
SEQUENCE:0
STATUS:CONFIRMED
TRANSP:OPAQUE
END:VEVENT
END:VCALENDAR
