BEGIN:VCALENDAR
VERSION:2.0
METHOD:PUBLISH
BEGIN:VEVENT
DTSTART:20260314T130000Z
DTEND:20260315T190000Z
LOCATION:Tappan, NY 10983
TRANSP: OPAQUE
SEQUENCE:0
UID:
DTSTAMP:20260423T130248Z
SUMMARY:Town & Country Estate Sales
DESCRIPTION:Town & Country Estate Sales Town & Country Estate & Moving Sales 
UID:1776970968
STREET-ADDRESS:See website
POSTAL-CODE:10983
LOCALITY:Tappan
REGION:ABBREV=NY
COUNTRY:ABBREV=US;ABBREV=USA:United States
URL;TYPE=Event Listing:https://estatesales.org/estate-sales/ny/tappan-/10983/town-country-estate-sales-2428823
PRIORITY:1
CLASS:PUBLIC
SEQUENCE:0
STATUS:CONFIRMED
TRANSP:OPAQUE
END:VEVENT
END:VCALENDAR
