BEGIN:VCALENDAR
VERSION:2.0
METHOD:PUBLISH
BEGIN:VEVENT
DTSTART:20260314T130000Z
DTEND:20260315T170000Z
LOCATION:Chester, MD 21619
TRANSP: OPAQUE
SEQUENCE:0
UID:
DTSTAMP:20260425T113046Z
SUMMARY:50% Off Sunday Kent Island Waterfront On-Site Estate Sale Waterfront Collectibles Fine Furnishings & Decor
DESCRIPTION:50% Off Sunday Kent Island Waterfront On-Site Estate Sale Waterfront Collectibles Fine Furnishings & Decor Smitty's Estate Liquidators - Online Estate Auctions 
UID:1777138246
STREET-ADDRESS:See website
POSTAL-CODE:21619
LOCALITY:Chester
REGION:ABBREV=MD
COUNTRY:ABBREV=US;ABBREV=USA:United States
URL;TYPE=Event Listing:https://estatesales.org/estate-sales/md/chester/21619/50-off-sunday-kent-island-2426666
PRIORITY:1
CLASS:PUBLIC
SEQUENCE:0
STATUS:CONFIRMED
TRANSP:OPAQUE
END:VEVENT
END:VCALENDAR
