BEGIN:VCALENDAR
VERSION:2.0
METHOD:PUBLISH
BEGIN:VEVENT
DTSTART:20260314T153000Z
DTEND:20260315T230000Z
LOCATION:Napa, CA 94558
TRANSP: OPAQUE
SEQUENCE:0
UID:
DTSTAMP:20260422T055041Z
SUMMARY:Vintage estate and collectibles sale
DESCRIPTION:Vintage estate and collectibles sale
UID:1776858641
STREET-ADDRESS:See website
POSTAL-CODE:94558
LOCALITY:Napa
REGION:ABBREV=CA
COUNTRY:ABBREV=US;ABBREV=USA:United States
URL;TYPE=Event Listing:https://estatesales.org/estate-sales/ca/napa/94558/vintage-estate-and-collectibles-sale-2428556
PRIORITY:1
CLASS:PUBLIC
SEQUENCE:0
STATUS:CONFIRMED
TRANSP:OPAQUE
END:VEVENT
END:VCALENDAR
