BEGIN:VCALENDAR
VERSION:2.0
METHOD:PUBLISH
BEGIN:VEVENT
DTSTART:20260314T150000Z
DTEND:20260314T200000Z
LOCATION:Phoenix, AZ 85027
TRANSP: OPAQUE
SEQUENCE:0
UID:
DTSTAMP:20260421T060145Z
SUMMARY:Huge Auction! 10+ Trucks, Vans, 10+ Trailers, Cargo Vans, Tools, Restoration, Equipment, Commerical
DESCRIPTION:Huge Auction! 10+ Trucks, Vans, 10+ Trailers, Cargo Vans, Tools, Restoration, Equipment, Commerical Fidelity Estate Services 
UID:1776772905
STREET-ADDRESS:See website
POSTAL-CODE:85027
LOCALITY:Phoenix
REGION:ABBREV=AZ
COUNTRY:ABBREV=US;ABBREV=USA:United States
URL;TYPE=Event Listing:https://estatesales.org/estate-sales/az/phoenix/85027/huge-auction-10-trucks-vans-2428026
PRIORITY:1
CLASS:PUBLIC
SEQUENCE:0
STATUS:CONFIRMED
TRANSP:OPAQUE
END:VEVENT
END:VCALENDAR
