BEGIN:VCALENDAR
VERSION:2.0
METHOD:PUBLISH
BEGIN:VEVENT
DTSTART:20250314T130000Z
DTEND:20250316T180000Z
LOCATION:Winter Springs, FL 32708
TRANSP: OPAQUE
SEQUENCE:0
UID:
DTSTAMP:20260423T132552Z
SUMMARY:EMERALD will be in Winter Springs
DESCRIPTION:EMERALD will be in Winter Springs Estate Sales by Emerald 
UID:1776972352
STREET-ADDRESS:See website
POSTAL-CODE:32708
LOCALITY:Winter Springs
REGION:ABBREV=FL
COUNTRY:ABBREV=US;ABBREV=USA:United States
URL;TYPE=Event Listing:https://estatesales.org/estate-sales/fl/winter-springs/32708/emerald-will-be-in-winter-2366257
PRIORITY:1
CLASS:PUBLIC
SEQUENCE:0
STATUS:CONFIRMED
TRANSP:OPAQUE
END:VEVENT
END:VCALENDAR
