BEGIN:VCALENDAR
VERSION:2.0
METHOD:PUBLISH
BEGIN:VEVENT
DTSTART:20250314T150000Z
DTEND:20250315T190000Z
LOCATION:Bakersfield, CA 93304
TRANSP: OPAQUE
SEQUENCE:0
UID:
DTSTAMP:20260422T120330Z
SUMMARY:50% off Sat. -Cute Cowboy House!! off Wilson/Wible
DESCRIPTION:50% off Sat. -Cute Cowboy House!! off Wilson/Wible Complete Estate Management 
UID:1776881010
STREET-ADDRESS:See website
POSTAL-CODE:93304
LOCALITY:Bakersfield
REGION:ABBREV=CA
COUNTRY:ABBREV=US;ABBREV=USA:United States
URL;TYPE=Event Listing:https://estatesales.org/estate-sales/ca/bakersfield/93304/50-off-sat-cute-cowboy-2366318
PRIORITY:1
CLASS:PUBLIC
SEQUENCE:0
STATUS:CONFIRMED
TRANSP:OPAQUE
END:VEVENT
END:VCALENDAR
