BEGIN:VCALENDAR
VERSION:2.0
METHOD:PUBLISH
BEGIN:VEVENT
DTSTART:20260313T150000Z
DTEND:20260314T220000Z
LOCATION:Springville, UT 84663
TRANSP: OPAQUE
SEQUENCE:0
UID:
DTSTAMP:20260425T212339Z
SUMMARY:Last Day 50% OFF Everything Springville Pinstripe ESTATE SALE Sat March 14
DESCRIPTION:Last Day 50% OFF Everything Springville Pinstripe ESTATE SALE Sat March 14 Pinstripe Estate Services 
UID:1777173819
STREET-ADDRESS:See website
POSTAL-CODE:84663
LOCALITY:Springville
REGION:ABBREV=UT
COUNTRY:ABBREV=US;ABBREV=USA:United States
URL;TYPE=Event Listing:https://estatesales.org/estate-sales/ut/springville/84663/last-day-50-off-everything-2429056
PRIORITY:1
CLASS:PUBLIC
SEQUENCE:0
STATUS:CONFIRMED
TRANSP:OPAQUE
END:VEVENT
END:VCALENDAR
