BEGIN:VCALENDAR
VERSION:2.0
METHOD:PUBLISH
BEGIN:VEVENT
DTSTART:20260313T160000Z
DTEND:20260314T220000Z
LOCATION:Las Vegas, NV 89117
TRANSP: OPAQUE
SEQUENCE:0
UID:
DTSTAMP:20260423T032119Z
SUMMARY:Chico’s and more ! Lots with tags still on ! Shoes/ pants galore
DESCRIPTION:Chico’s and more ! Lots with tags still on ! Shoes/ pants galore Caring Transitions #36127 
UID:1776936079
STREET-ADDRESS:See website
POSTAL-CODE:89117
LOCALITY:Las Vegas
REGION:ABBREV=NV
COUNTRY:ABBREV=US;ABBREV=USA:United States
URL;TYPE=Event Listing:https://estatesales.org/estate-sales/nv/las-vegas/89117/chicos-and-more-lots-with-2429537
PRIORITY:1
CLASS:PUBLIC
SEQUENCE:0
STATUS:CONFIRMED
TRANSP:OPAQUE
END:VEVENT
END:VCALENDAR
