BEGIN:VCALENDAR
VERSION:2.0
METHOD:PUBLISH
BEGIN:VEVENT
DTSTART:20260313T150000Z
DTEND:20260314T190000Z
LOCATION:Oklahoma City, OK 73170
TRANSP: OPAQUE
SEQUENCE:0
UID:
DTSTAMP:20260425T113046Z
SUMMARY:Estate Sale Full of Good Times!
DESCRIPTION:Estate Sale Full of Good Times! Vincent Estate Sales 
UID:1777138246
STREET-ADDRESS:See website
POSTAL-CODE:73170
LOCALITY:Oklahoma City
REGION:ABBREV=OK
COUNTRY:ABBREV=US;ABBREV=USA:United States
URL;TYPE=Event Listing:https://estatesales.org/estate-sales/ok/oklahoma-city/73170/estate-sale-full-of-good-2428975
PRIORITY:1
CLASS:PUBLIC
SEQUENCE:0
STATUS:CONFIRMED
TRANSP:OPAQUE
END:VEVENT
END:VCALENDAR
