BEGIN:VCALENDAR
VERSION:2.0
METHOD:PUBLISH
BEGIN:VEVENT
DTSTART:20260313T120000Z
DTEND:20260314T160000Z
LOCATION:Sun City Center, FL 33573
TRANSP: OPAQUE
SEQUENCE:0
UID:
DTSTAMP:20260422T045938Z
SUMMARY:Sun City Center home hosted by Sunshine Estate Liquidators
DESCRIPTION:Sun City Center home hosted by Sunshine Estate Liquidators Sunshine Estate Liquidators 
UID:1776855578
STREET-ADDRESS:See website
POSTAL-CODE:33573
LOCALITY:Sun City Center
REGION:ABBREV=FL
COUNTRY:ABBREV=US;ABBREV=USA:United States
URL;TYPE=Event Listing:https://estatesales.org/estate-sales/fl/sun-city-center/33573/sun-city-center-home-hosted-2428709
PRIORITY:1
CLASS:PUBLIC
SEQUENCE:0
STATUS:CONFIRMED
TRANSP:OPAQUE
END:VEVENT
END:VCALENDAR
