BEGIN:VCALENDAR
VERSION:2.0
METHOD:PUBLISH
BEGIN:VEVENT
DTSTART:20250313T150000Z
DTEND:20250315T200000Z
LOCATION:Denver, CO 80209
TRANSP: OPAQUE
SEQUENCE:0
UID:
DTSTAMP:20260424T180645Z
SUMMARY:Grasons of Highlands Ranch presents: Wash Park Treasures!
DESCRIPTION:Grasons of Highlands Ranch presents: Wash Park Treasures! Grasons of Southwest Denver, CO 
UID:1777075605
STREET-ADDRESS:See website
POSTAL-CODE:80209
LOCALITY:Denver
REGION:ABBREV=CO
COUNTRY:ABBREV=US;ABBREV=USA:United States
URL;TYPE=Event Listing:https://estatesales.org/estate-sales/co/denver/80209/grasons-of-highlands-ranch-presents-2365850
PRIORITY:1
CLASS:PUBLIC
SEQUENCE:0
STATUS:CONFIRMED
TRANSP:OPAQUE
END:VEVENT
END:VCALENDAR
