BEGIN:VCALENDAR
VERSION:2.0
METHOD:PUBLISH
BEGIN:VEVENT
DTSTART:20240313T140000Z
DTEND:20240317T190000Z
LOCATION:Pinckney, MI 48169
TRANSP: OPAQUE
SEQUENCE:0
UID:
DTSTAMP:20260421T145157Z
SUMMARY:50% off on Sunday at Great Pinckney Estate Sale with Many Vintage Items!
DESCRIPTION:50% off on Sunday at Great Pinckney Estate Sale with Many Vintage Items! Estate Sales and Beyond LLC 
UID:1776804717
STREET-ADDRESS:See website
POSTAL-CODE:48169
LOCALITY:Pinckney
REGION:ABBREV=MI
COUNTRY:ABBREV=US;ABBREV=USA:United States
URL;TYPE=Event Listing:https://estatesales.org/estate-sales/mi/pinckney/48169/50-off-on-sunday-at-2290043
PRIORITY:1
CLASS:PUBLIC
SEQUENCE:0
STATUS:CONFIRMED
TRANSP:OPAQUE
END:VEVENT
END:VCALENDAR
