BEGIN:VCALENDAR
VERSION:2.0
METHOD:PUBLISH
BEGIN:VEVENT
DTSTART:20210313T150000Z
DTEND:20210314T000000Z
LOCATION:Manlius, NY 13066
TRANSP: OPAQUE
SEQUENCE:0
UID:
DTSTAMP:20260420T135222Z
SUMMARY:IMPORTANT UNIQUE & ECLECTIC ONLINE MULTI-ESTATE AUCTION-Antiques-Fine & Decorative Arts-Coins & More 
DESCRIPTION:IMPORTANT UNIQUE & ECLECTIC ONLINE MULTI-ESTATE AUCTION-Antiques-Fine & Decorative Arts-Coins & More  Auctions, Estate Sales & Real Estate by: Terri Peters & Associates   (315-447-1656)  CNY's Premier Auction & Estate Company 
UID:1776714742
STREET-ADDRESS:See website
POSTAL-CODE:13066
LOCALITY:Manlius
REGION:ABBREV=NY
COUNTRY:ABBREV=US;ABBREV=USA:United States
URL;TYPE=Event Listing:https://estatesales.org/estate-sales/ny/manlius/13066/important-unique-eclectic-online-multiestate-1871111
PRIORITY:1
CLASS:PUBLIC
SEQUENCE:0
STATUS:CONFIRMED
TRANSP:OPAQUE
END:VEVENT
END:VCALENDAR
