BEGIN:VCALENDAR
VERSION:2.0
METHOD:PUBLISH
BEGIN:VEVENT
DTSTART:20200313T223000Z
DTEND:20200314T000000Z
LOCATION:Belleview, FL 34420
TRANSP: OPAQUE
SEQUENCE:0
UID:
DTSTAMP:20260420T061044Z
SUMMARY:Antique Auction this Friday! 
DESCRIPTION:Antique Auction this Friday!  Justice League Estate Sales 
UID:1776687044
STREET-ADDRESS:See website
POSTAL-CODE:34420
LOCALITY:Belleview
REGION:ABBREV=FL
COUNTRY:ABBREV=US;ABBREV=USA:United States
URL;TYPE=Event Listing:https://estatesales.org/estate-sales/fl/belleview-/34420/antique-auction-this-friday-1775933
PRIORITY:1
CLASS:PUBLIC
SEQUENCE:0
STATUS:CONFIRMED
TRANSP:OPAQUE
END:VEVENT
END:VCALENDAR
