BEGIN:VCALENDAR
VERSION:2.0
METHOD:PUBLISH
BEGIN:VEVENT
DTSTART:20260312T140000Z
DTEND:20260314T190000Z
LOCATION:Warrenton, VA 20187
TRANSP: OPAQUE
SEQUENCE:0
UID:
DTSTAMP:20260425T145633Z
SUMMARY:Guardian Angels in Warrenton
DESCRIPTION:Guardian Angels in Warrenton Guardian Angels Estate Sales 
UID:1777150593
STREET-ADDRESS:See website
POSTAL-CODE:20187
LOCALITY:Warrenton
REGION:ABBREV=VA
COUNTRY:ABBREV=US;ABBREV=USA:United States
URL;TYPE=Event Listing:https://estatesales.org/estate-sales/va/warrenton/20187/guardian-angels-in-warrenton-2425924
PRIORITY:1
CLASS:PUBLIC
SEQUENCE:0
STATUS:CONFIRMED
TRANSP:OPAQUE
END:VEVENT
END:VCALENDAR
