BEGIN:VCALENDAR
VERSION:2.0
METHOD:PUBLISH
BEGIN:VEVENT
DTSTART:20260312T140000Z
DTEND:20260314T170000Z
LOCATION:Florence, SC 29501
TRANSP: OPAQUE
SEQUENCE:0
UID:
DTSTAMP:20260425T143302Z
SUMMARY:Large Estate Sale On Camellia Circle in Florence
DESCRIPTION:Large Estate Sale On Camellia Circle in Florence Bouldin Estate Sales 
UID:1777149182
STREET-ADDRESS:See website
POSTAL-CODE:29501
LOCALITY:Florence
REGION:ABBREV=SC
COUNTRY:ABBREV=US;ABBREV=USA:United States
URL;TYPE=Event Listing:https://estatesales.org/estate-sales/sc/florence/29501/large-estate-sale-on-camellia-2429194
PRIORITY:1
CLASS:PUBLIC
SEQUENCE:0
STATUS:CONFIRMED
TRANSP:OPAQUE
END:VEVENT
END:VCALENDAR
