BEGIN:VCALENDAR
VERSION:2.0
METHOD:PUBLISH
BEGIN:VEVENT
DTSTART:20260312T160000Z
DTEND:20260314T210000Z
LOCATION:Cypress, CA 90630
TRANSP: OPAQUE
SEQUENCE:0
UID:
DTSTAMP:20260423T214640Z
SUMMARY:Grasons Integrity Cypress Estate Sale
DESCRIPTION:Grasons Integrity Cypress Estate Sale Grasons Co Integrity Estate Sale Services 
UID:1777002400
STREET-ADDRESS:See website
POSTAL-CODE:90630
LOCALITY:Cypress
REGION:ABBREV=CA
COUNTRY:ABBREV=US;ABBREV=USA:United States
URL;TYPE=Event Listing:https://estatesales.org/estate-sales/ca/cypress/90630/grasons-integrity-cypress-estate-sale-2428213
PRIORITY:1
CLASS:PUBLIC
SEQUENCE:0
STATUS:CONFIRMED
TRANSP:OPAQUE
END:VEVENT
END:VCALENDAR
